BEGIN:VCALENDAR
VERSION:2.0
PRODID:-//ChamberMaster//Event Calendar 2.0//EN
METHOD:PUBLISH
X-PUBLISHED-TTL:P3D
REFRESH-INTERVAL:P3D
CALSCALE:GREGORIAN
BEGIN:VEVENT
DTSTART:20260412T120000Z
DTEND:20260412T140000Z
X-MICROSOFT-CDO-ALLDAYEVENT:FALSE
SUMMARY:We Run for Autism
DESCRIPTION:This is our 3rd annual 5k in honor of Autism Awareness month. All proceeds go directly to people with ASD. It is hosted by The Connect Foundation and Stubborn Donkey Running. For those interested in sponsorship\, please call 910 323 1335 and ask for Jamie.\n\n\n\n \n\nThis link below is the link for race registration \n\nhttps://urldefense.proofpoint.com/v2/url?u=https-3A__runsignup.com_Race_NC_Fayetteville_ShinelightAutismAwareness5k&d=DwMFaQ&c=euGZstcaTDllvimEN8b7jXrwqOf-v5A_CdpgnVfiiMM&r=21T2YmkzyVaX2IjJCv77sBXAPRFIAlKK76FqTrorVQ8&m=ISK1lQfOEjyiVKl1vFNEiRNvahcz0plG2p9kCFRVEUk3bDbLYlv-BXGtHC936FzB&s=uhzocL4dQP8dNGB7fc5BRAuX81il_PeZ97Coa2smLng&e=
X-ALT-DESC;FMTTYPE=text/html:<p><br />\nThis is our 3rd annual 5k in honor of Autism Awareness month. All proceeds go directly to people with ASD. It is hosted by The Connect Foundation and Stubborn Donkey Running. For those interested in sponsorship\, please call 910 323 1335 and ask for Jamie.<br />\n<br />\n&nbsp\;</p>\n\n<p>This link below is the link for race registration&nbsp\;<br />\n<a href="https://urldefense.proofpoint.com/v2/url?u=https-3A__runsignup.com_Race_NC_Fayetteville_ShinelightAutismAwareness5k&amp\;d=DwMFaQ&amp\;c=euGZstcaTDllvimEN8b7jXrwqOf-v5A_CdpgnVfiiMM&amp\;r=21T2YmkzyVaX2IjJCv77sBXAPRFIAlKK76FqTrorVQ8&amp\;m=ISK1lQfOEjyiVKl1vFNEiRNvahcz0plG2p9kCFRVEUk3bDbLYlv-BXGtHC936FzB&amp\;s=uhzocL4dQP8dNGB7fc5BRAuX81il_PeZ97Coa2smLng&amp\;e=">https://urldefense.proofpoint.com/v2/url?u=https-3A__runsignup.com_Race_NC_Fayetteville_ShinelightAutismAwareness5k&amp\;d=DwMFaQ&amp\;c=euGZstcaTDllvimEN8b7jXrwqOf-v5A_CdpgnVfiiMM&amp\;r=21T2YmkzyVaX2IjJCv77sBXAPRFIAlKK76FqTrorVQ8&amp\;m=ISK1lQfOEjyiVKl1vFNEiRNvahcz0plG2p9kCFRVEUk3bDbLYlv-BXGtHC936FzB&amp\;s=uhzocL4dQP8dNGB7fc5BRAuX81il_PeZ97Coa2smLng&amp\;e=</a><br />\n<br />\n<br />\n&nbsp\;</p>\n
LOCATION:
UID:e.1253.50606
SEQUENCE:3
DTSTAMP:20260425T111651Z
URL:https://chamber.faybiz.com/events/details/we-run-for-autism-50606
END:VEVENT

END:VCALENDAR
