BEGIN:VCALENDAR
VERSION:2.0
PRODID:-//ChamberMaster//Event Calendar 2.0//EN
METHOD:PUBLISH
X-PUBLISHED-TTL:P3D
REFRESH-INTERVAL:P3D
CALSCALE:GREGORIAN
BEGIN:VEVENT
DTSTART:20241003T210000Z
DTEND:20241003T230000Z
X-MICROSOFT-CDO-ALLDAYEVENT:FALSE
SUMMARY:NCDOR Webinar - Business Tax Essentials
DESCRIPTION:This webinar will cover the basic requirements to help NC businesses understand the laws and obligations necessary to be a tax compliant business. Participants will learn about filing and administrative requirements\, the basics of NC sales & use tax law\, and the basics of NC withholding tax law in addition to receiving directions for completing sales tax and withholding returns and for filing and paying online.
X-ALT-DESC;FMTTYPE=text/html:<span style="color: rgb(33\, 37\, 41)\; font-family: &quot\;Source Sans Pro&quot\;\, sans-serif\; font-size: 18px\;">This webinar will cover the basic requirements to help NC businesses understand the laws and obligations necessary to be a tax compliant business. Participants will learn about filing and administrative requirements\, the basics of NC sales &amp\; use tax law\, and the basics of NC withholding tax law in addition to receiving directions for completing sales tax and withholding returns and for filing and paying online.</span>
LOCATION:Online webinar Click Here to Register
UID:e.1253.42964
SEQUENCE:3
DTSTAMP:20260423T004851Z
URL:https://chamber.faybiz.com/events/details/ncdor-webinar-business-tax-essentials-42964
END:VEVENT

END:VCALENDAR
