BEGIN:VCALENDAR
VERSION:2.0
PRODID:-//ChamberMaster//Event Calendar 2.0//EN
METHOD:PUBLISH
X-PUBLISHED-TTL:P3D
REFRESH-INTERVAL:P3D
CALSCALE:GREGORIAN
BEGIN:VEVENT
DTSTART:20240808T213000Z
DTEND:20240808T233000Z
X-MICROSOFT-CDO-ALLDAYEVENT:FALSE
SUMMARY:NCDOR Business Tax Essentials Webinar
DESCRIPTION:This seminar will cover the basic requirements to help NC businesses understand the laws and obligations necessary to be a tax compliant business. Participants will learn about filing and administrative requirements\, the basics of NC sales & use tax law\, and the basics of NC withholding tax law in addition to receiving directions for completing sales tax and withholding returns and for filing and paying online. \n\n\n\nRegister Now!
X-ALT-DESC;FMTTYPE=text/html:<span style="color: rgb(33\, 37\, 41)\; font-family: &quot\;Source Sans Pro&quot\;\, sans-serif\; font-size: 18px\;">This seminar will cover the basic requirements to help NC businesses understand the laws&nbsp\;and obligations necessary to be a tax compliant business. Participants will learn about filing and administrative requirements\, the basics of NC sales &amp\; use tax law\, and the basics of NC withholding tax law in addition to receiving&nbsp\;directions for completing sales tax and withholding returns and&nbsp\;for filing and paying online.&nbsp\;</span><br />\n<br />\n<a href="https://ncdorgov.webex.com/weblink/register/red3bb881c7cff9e172223c8a4869cfcb" style="box-sizing: border-box\; color: rgb(59\, 117\, 169)\; font-family: &quot\;Source Sans Pro&quot\;\, sans-serif\; font-size: 18px\;">Register Now!</a>
LOCATION:Online
UID:e.1253.40898
SEQUENCE:3
DTSTAMP:20260423T022824Z
URL:https://chamber.faybiz.com/events/details/ncdor-business-tax-essentials-webinar-40898
END:VEVENT

END:VCALENDAR
