BEGIN:VCALENDAR
VERSION:2.0
PRODID:-//ChamberMaster//Event Calendar 2.0//EN
METHOD:PUBLISH
X-PUBLISHED-TTL:P3D
REFRESH-INTERVAL:P3D
CALSCALE:GREGORIAN
BEGIN:VEVENT
DTSTART:20250206T230000Z
DTEND:20250207T010000Z
X-MICROSOFT-CDO-ALLDAYEVENT:FALSE
SUMMARY:Ignite: Business Plan Development
DESCRIPTION:READY TO START OR GROW YOUR BUSINESS IN 2024?\n\nGrant Opportunity\n\nIf you're ready to turn your vision into a thriving reality\, this course will guide you step-by-step in creating a practical\, results-driven business plan.\n\nThis course provides you with the essential tools and insights to succeed in today's competitive business environment. With guidance from experienced facilitators\, industry experts\, and a network of supportive peers\, you will:\n\n\n	Refine your business concept by identifying your target market and defining your competitive edge.\n	Develop a solid business plan by setting achievable financial goals and understanding key financial components.\n	Map out your path to profitability through effective marketing strategies & financial projections.\n	Explore funding opportunities and craft a compelling business pitch to attract investors.\n\n\nGain the confidence and knowledge to turn your business vision into reality!\n\nIf you complete your business plan\, you'll be able to participate in the HER PITCH competition.\n\nDo y???? ???????? ???? ???????? ?????? ?? ???????????????? or you've started and need further guidance?\n\nThis class is for you!\n\nYou will discover how to create a clear road map for your business as we cover the following categories:\n\n\n	Entrepreneurial Vision\n	Market Research (Clients)\n	Reaching The Market (Marketing)\n	Building The Organization (Operations)\n	Pricing Strategy & Start-Up Costs\n	Pitch Competition (Must attend all classes to compete in Pitch)
X-ALT-DESC;FMTTYPE=text/html:<p>READY TO START OR GROW YOUR BUSINESS IN 2024?<br />\n<strong>Grant Opportunity</strong></p>\n\n<p>If you&#39\;re ready to turn your vision into a thriving reality\, this course will guide you step-by-step in creating a practical\, results-driven business plan.</p>\n\n<p>This course provides you with the essential tools and insights to succeed in today&rsquo\;s competitive business environment. With guidance from experienced facilitators\, industry experts\, and a network of supportive peers\, you will:</p>\n\n<ul>\n	<li><strong>Refine your business concept</strong>&nbsp\;by identifying your target market and defining your competitive edge.</li>\n	<li><strong>Develop a solid business plan</strong>&nbsp\;by setting achievable financial goals and understanding key financial components.</li>\n	<li><strong>Map out your path to profitability</strong>&nbsp\;through effective marketing strategies &amp\; financial projections.</li>\n	<li><strong>Explore funding opportunities</strong>&nbsp\;and craft a compelling business pitch to attract investors.</li>\n</ul>\n\n<p>Gain the confidence and knowledge to turn your business vision into reality!</p>\n\n<p>If you complete your business plan\, you&#39\;ll be able to participate in the HER PITCH competition.</p>\n\n<p><strong>Do y???? ???????? ???? ???????? ?????? ?? ????????????????</strong><strong>&nbsp\;or you&#39\;ve started and need further guidance?</strong></p>\n\n<p><strong>This class is for you!</strong></p>\n\n<p>You will discover how to create a clear road map for your business as we cover the following categories:</p>\n\n<ul>\n	<li>Entrepreneurial Vision</li>\n	<li>Market Research (Clients)</li>\n	<li>Reaching The Market (Marketing)</li>\n	<li>Building The Organization (Operations)</li>\n	<li>Pricing Strategy &amp\; Start-Up Costs</li>\n	<li>Pitch Competition (Must attend all classes to compete in Pitch)</li>\n</ul>\n
LOCATION:Online https://www.eventbrite.com/e/ignite-business-plan-development-tickets-1009299119837?aff=oddtdtcreator Pitch Competition will be in person @ TBD location
UID:e.1253.43353
SEQUENCE:3
DTSTAMP:20260423T021702Z
URL:https://chamber.faybiz.com/events/details/ignite-business-plan-development-02-06-2025-43353
END:VEVENT

END:VCALENDAR
