BEGIN:VCALENDAR
VERSION:2.0
PRODID:-//ChamberMaster//Event Calendar 2.0//EN
METHOD:PUBLISH
X-PUBLISHED-TTL:P3D
REFRESH-INTERVAL:P3D
CALSCALE:GREGORIAN
BEGIN:VEVENT
DTSTART:20260706T130000Z
DTEND:20260710T160000Z
X-MICROSOFT-CDO-ALLDAYEVENT:FALSE
SUMMARY:Gymnastics Summer Camp!
DESCRIPTION:Our July 6-10 camp will be Wizards themed - so get ready for a week of gymnastics\, games\, obstacle courses\, crafts and a whole lot of fun with your favorite magical friend! \n\n\n\nCSG is offering week long\, themed camps this summer for both members and non-members!\n\n\n\nEarly bird pricing is available through April - don't miss your chance to save! \n\n\n\nRegistration is available on our website\, under "Camps" - and spots are limited so secure yours today!
X-ALT-DESC;FMTTYPE=text/html:Our&nbsp\;<strong>July 6-10</strong>&nbsp\;camp will be Wizards themed - so get ready for a week of gymnastics\, games\, obstacle courses\, crafts and a whole lot of fun with your favorite magical friend!&nbsp\;<br />\n<br />\nCSG is offering week long\, themed camps this summer for both members and non-members!<br />\n<br />\n<u>Early bird pricing is available through April&nbsp\;</u>- don&#39\;t miss your chance to save!&nbsp\;<br />\n<br />\nRegistration is available on our website\, under &quot\;Camps&quot\; - and spots are limited so secure yours today!
LOCATION:CountrySide Gymnastics 330 McArthur Rd Fayetteville NC
UID:e.1253.50611
SEQUENCE:3
DTSTAMP:20260425T141130Z
URL:https://chamber.faybiz.com/events/details/gymnastics-summer-camp-07-06-2026-50611
END:VEVENT

END:VCALENDAR
