BEGIN:VCALENDAR
VERSION:2.0
PRODID:-//ChamberMaster//Event Calendar 2.0//EN
METHOD:PUBLISH
X-PUBLISHED-TTL:P3D
REFRESH-INTERVAL:P3D
CALSCALE:GREGORIAN
BEGIN:VEVENT
DTSTART:20241211T140000Z
DTEND:20241211T180000Z
X-MICROSOFT-CDO-ALLDAYEVENT:FALSE
SUMMARY:Cafe Wednesdays at The Creative Studio
DESCRIPTION:Join us every Wednesday for free coffee\, donuts\, and a welcoming space to network and co-work with fellow creatives. Enjoy weekly raffles and connect with the community. Open to the public\, with vendor spots available for just $15. Come for the coffee\, stay for the connections!
X-ALT-DESC;FMTTYPE=text/html:Join us every Wednesday for free coffee\, donuts\, and a welcoming space to network and co-work with fellow creatives. Enjoy weekly raffles and connect with the community. Open to the public\, with vendor spots available for just $15. Come for the coffee\, stay for the connections!
LOCATION:The Creative Studio by Jae Renee 8116 Cliffdale Rd.\, Ste 120 Fayetteville\, NC 28314
UID:e.1253.41685
SEQUENCE:3
DTSTAMP:20260422T000826Z
URL:https://chamber.faybiz.com/events/details/cafe-wednesdays-at-the-creative-studio-12-11-2024-41685
END:VEVENT

END:VCALENDAR
