BEGIN:VCALENDAR
VERSION:2.0
PRODID:-//ChamberMaster//Event Calendar 2.0//EN
METHOD:PUBLISH
X-PUBLISHED-TTL:P3D
REFRESH-INTERVAL:P3D
CALSCALE:GREGORIAN
BEGIN:VEVENT
DTSTART:20250208T150000Z
DTEND:20250208T170000Z
X-MICROSOFT-CDO-ALLDAYEVENT:FALSE
SUMMARY:Business Development Training #3: Marketing
DESCRIPTION:Why Attend? In today's competitive marketplace\, understanding who your customers are and what drives them is crucial to your success. This training will equip you with the knowledge and strategies to connect your marketing with your audience and grow your business. Whether you're just starting or looking to refine your approach\, this class provides the insights you need to succeed.\n\nTopics Covered:\n\n\n	Identifying Your Target Market\n	Reaching Your Market\n	Customer Demographics & Psychographics Exercise\n\n\nDon't miss this opportunity to gain a competitive edge by understanding what truly drives your audience.
X-ALT-DESC;FMTTYPE=text/html:<p><strong>Why Attend?</strong>&nbsp\;In today&rsquo\;s competitive marketplace\, understanding who your customers are and what drives them is crucial to your success. This training will equip you with the knowledge and strategies to connect your marketing with your audience and grow your business. Whether you&#39\;re just starting or looking to refine your approach\, this class provides the insights you need to succeed.</p>\n\n<p><strong>Topics Covered:</strong></p>\n\n<ul>\n	<li>Identifying Your Target Market</li>\n	<li>Reaching Your Market</li>\n	<li>Customer Demographics &amp\; Psychographics Exercise</li>\n</ul>\n\n<p>Don&rsquo\;t miss this opportunity to gain a competitive edge by understanding what truly drives your audience.</p>\n
LOCATION:North Regional Public Library 855 McArthur Rd Fayetteville\, NC 28311 https://www.eventbrite.com/e/business-development-training-3-marketing-tickets-1003893571697?aff=oddtdtcreator
UID:e.1253.43363
SEQUENCE:3
DTSTAMP:20260423T073541Z
URL:https://chamber.faybiz.com/events/details/business-development-training-3-marketing-43363
END:VEVENT

END:VCALENDAR
