BEGIN:VCALENDAR
VERSION:2.0
PRODID:-//ChamberMaster//Event Calendar 2.0//EN
METHOD:PUBLISH
X-PUBLISHED-TTL:P3D
REFRESH-INTERVAL:P3D
CALSCALE:GREGORIAN
BEGIN:VEVENT
DTSTART:20260418T150000Z
DTEND:20260418T200000Z
X-MICROSOFT-CDO-ALLDAYEVENT:FALSE
SUMMARY:Brand Builders Lab™ Q2: The Presence
DESCRIPTION:Brand Builders Lab  Q2: The Presence is a hands-on\, strategy-focused working lab for entrepreneurs who are ready to strengthen how they show up in their business.\n\nThis is not a conference.\n\nThis is not a sit-and-listen workshop.\n\nIt's an immersive brand development experience designed to help business owners refine visibility\, authority\, positioning\, and in-room presence with intention.\n\nIn this quarter's Lab\, we focus on:\n\n  Brand visibility that aligns with your long-term goals\n\n  Authority positioning without performance or pressure\n\n  Strategic communication across platforms\n\n  Refining how you enter rooms\, conversations\, and opportunities\n\n  Strengthening brand presence in real time\n\nAttendees leave with clarity\, direction\, and a defined next step   not just notes.\n\nThis Lab is ideal for:\n\nEntrepreneurs\n\nService providers\n\nConsultants\n\nCommunity leaders \n\nCreative business owners\n\nIf you are building something that requires people to trust you\, see you\, and choose you   your presence matters.\n\nSeats are intentionally limited to maintain a working-room environment.
X-ALT-DESC;FMTTYPE=text/html:<p>Brand Builders Lab&trade\; Q2: The Presence is a hands-on\, strategy-focused working lab for entrepreneurs who are ready to strengthen how they show up in their business.</p>\n\n<p>This is not a conference.<br />\nThis is not a sit-and-listen workshop.</p>\n\n<p>It&rsquo\;s an immersive brand development experience designed to help business owners refine visibility\, authority\, positioning\, and in-room presence with intention.</p>\n\n<p>In this quarter&rsquo\;s Lab\, we focus on:</p>\n\n<p>&bull\; Brand visibility that aligns with your long-term goals<br />\n&bull\; Authority positioning without performance or pressure<br />\n&bull\; Strategic communication across platforms<br />\n&bull\; Refining how you enter rooms\, conversations\, and opportunities<br />\n&bull\; Strengthening brand presence in real time</p>\n\n<p>Attendees leave with clarity\, direction\, and a defined next step &mdash\; not just notes.</p>\n\n<p>This Lab is ideal for:</p>\n\n<p>Entrepreneurs<br />\nService providers<br />\nConsultants<br />\nCommunity leaders&nbsp\;<br />\nCreative business owners</p>\n\n<p>If you are building something that requires people to trust you\, see you\, and choose you &mdash\; your presence matters.</p>\n\n<p>Seats are intentionally limited to maintain a working-room environment.</p>\n
LOCATION:ShareSpace
UID:e.1253.50602
SEQUENCE:3
DTSTAMP:20260425T111946Z
URL:https://chamber.faybiz.com/events/details/brand-builders-lab-q2-the-presence-50602
END:VEVENT

END:VCALENDAR
