BEGIN:VCALENDAR
VERSION:2.0
PRODID:-//ChamberMaster//Event Calendar 2.0//EN
METHOD:PUBLISH
X-PUBLISHED-TTL:P3D
REFRESH-INTERVAL:P3D
CALSCALE:GREGORIAN
BEGIN:VEVENT
DTSTART:20240713T140000Z
DTEND:20240713T170000Z
X-MICROSOFT-CDO-ALLDAYEVENT:FALSE
SUMMARY:Auditions For Sweet Tea Shakespeare
DESCRIPTION:THERE WILL BE AUDITIONS FOR BOTH ACTORS & MUSICIANS FOR 2 FALL PRODUCTIONS\, *THE ODYSSEY* AND *TROILUS AND CRESSIDA*
X-ALT-DESC;FMTTYPE=text/html:<span style="font-family:arial\;"><span style="font-size:16px\;">THERE WILL BE AUDITIONS FOR BOTH ACTORS &amp\; MUSICIANS FOR 2 FALL PRODUCTIONS\, *THE ODYSSEY* AND *TROILUS AND CRESSIDA*&nbsp\;</span></span><scribe-shadow id="crxjs-ext" style="position: fixed\; width: 0px\; height: 0px\; top: 0px\; left: 0px\; z-index: 2147483647\; overflow: visible\; visibility: visible\;"></scribe-shadow>
LOCATION:CAPITAL ENCORE ACADEMY OF FAYETTEVILLE\, 126 HAY STREET (USE BACK ENTRANCE ON OLD ST.)
UID:e.1253.40964
SEQUENCE:3
DTSTAMP:20260423T043752Z
URL:https://chamber.faybiz.com/events/details/auditions-for-sweet-tea-shakespeare-40964
END:VEVENT

END:VCALENDAR
