BEGIN:VCALENDAR
VERSION:2.0
PRODID:-//ChamberMaster//Event Calendar 2.0//EN
METHOD:PUBLISH
X-PUBLISHED-TTL:P3D
REFRESH-INTERVAL:P3D
CALSCALE:GREGORIAN
BEGIN:VEVENT
DTSTART:20260519T150000Z
DTEND:20260519T170000Z
X-MICROSOFT-CDO-ALLDAYEVENT:FALSE
SUMMARY:2026 NCDOL Safety Awards Program
DESCRIPTION:APPLY NOW! \n\n\n\nThe NCDOT Safety Awards are now open\, and this is your opportunity to have your company's commitment to safety recognized at the state level.\n\n\n\nThese awards honor businesses that go above and beyond to protect their employees\, job sites\, and the traveling public on NCDOT projects. If your organization prioritizes safety training\, maintains strong safety practices\, or has demonstrated outstanding safety performance   you may already qualify.\n\n\n\nApplying is more than checking a box. It's a chance to:\n\n	Showcase your safety culture\n	Strengthen your reputation with NCDOT and industry partners\n	Recognize the teams who make safety a daily priority\n\n\n\nWe encourage all eligible contractors and firms to take the time to complete the application and highlight the work you're already doing to keep North Carolina's roads and communities safe.\n\n\n\nDon't miss the opportunity to be recognized   submit your NCDOT Safety Awards application today.
X-ALT-DESC;FMTTYPE=text/html:<span style="font-size:18px\;"><a href="https://www.labor.nc.gov/safety-awards-application">APPLY NOW!&nbsp\;</a><br />\n<br />\nThe NCDOT Safety Awards are now open\, and this is your opportunity to have your company&rsquo\;s commitment to safety recognized at the state level.<br />\n<br />\nThese awards honor businesses that go above and beyond to protect their employees\, job sites\, and the traveling public on NCDOT projects. If your organization prioritizes safety training\, maintains strong safety practices\, or has demonstrated outstanding safety performance &mdash\; you may already qualify.<br />\n<br />\nApplying is more than checking a box. It&rsquo\;s a chance to:</span>\n<ul>\n	<li><span style="font-size:18px\;">Showcase your safety culture</span></li>\n	<li><span style="font-size:18px\;">Strengthen your reputation with NCDOT and industry partners</span></li>\n	<li><span style="font-size:18px\;">Recognize the teams who make safety a daily priority</span></li>\n</ul>\n<br />\n<span style="font-size:18px\;">We encourage all eligible contractors and firms to take the time to complete the application and highlight the work you&rsquo\;re already doing to keep North Carolina&rsquo\;s roads and communities safe.<br />\n<br />\nDon&rsquo\;t miss the opportunity to be recognized &mdash\; submit your NCDOT Safety Awards application today.</span>
LOCATION:
UID:e.1253.49723
SEQUENCE:3
DTSTAMP:20260424T030238Z
URL:https://chamber.faybiz.com/events/details/2026-ncdol-safety-awards-program-49723
END:VEVENT

END:VCALENDAR
