BEGIN:VCALENDAR
VERSION:2.0
PRODID:-//ChamberMaster//Event Calendar 2.0//EN
METHOD:PUBLISH
X-PUBLISHED-TTL:P3D
REFRESH-INTERVAL:P3D
CALSCALE:GREGORIAN
BEGIN:VEVENT
DTSTART:20260504T130000Z
DTEND:20260504T150000Z
X-MICROSOFT-CDO-ALLDAYEVENT:FALSE
SUMMARY:Introduction to Government Contracting
DESCRIPTION:This comprehensive training will guide participants through the essential steps of doing business with government agencies. We will cover the basic requirements for both state and federal contracting\, including how to register your business\, obtain relevant certifications\, and identify opportunities that align with your capabilities. Building on these fundamentals\, the session will also focus on the critical skill of preparing written proposal responses a key factor in successfully securing government contracts. Participants will learn strategies to navigate the proposal process and increase their chances of winning contracts\, addressing one of the most common challenges business owners face in government contracting.
X-ALT-DESC;FMTTYPE=text/html:This comprehensive training will guide participants through the essential steps of doing business with government agencies. We will cover the basic requirements for both state and federal contracting\, including how to register your business\, obtain relevant certifications\, and identify opportunities that align with your capabilities. Building on these fundamentals\, the session will also focus on the critical skill of preparing written proposal responses&mdash\;a key factor in successfully securing government contracts. Participants will learn strategies to navigate the proposal process and increase their chances of winning contracts\, addressing one of the most common challenges business owners face in government contracting.
LOCATION:HYBRID 1073 Murchison Road\, Fayetteville NC\, 28301 Virtual Link: Join Zoom Meeting https://us06web.zoom.us/j/82110230893?pwd=M5ana60NdiIivsHkqB8WgbYovf5wNy.1 Meeting ID: 821 1023 0893 Passcode: 425926 One tap mobile +16469313860\,\,82110230893#\,\,\,\,*425926# US +13017158592\,\,82110230893#\,\,\,\,*425926# US (Washington DC) Join instructions https://us06web.zoom.us/meetings/82110230893/invitations?signature=RvUtuiY0sryDAju4X5qBstVklceh_6SGe_6ftSTP_xU
UID:e.1253.51430
SEQUENCE:3
DTSTAMP:20260420T161619Z
URL:http://chamber.faybiz.com/events/details/government-contracting-101-51430
END:VEVENT

END:VCALENDAR
