BEGIN:VCALENDAR
VERSION:2.0
PRODID:-//ChamberMaster//Event Calendar 2.0//EN
METHOD:PUBLISH
X-PUBLISHED-TTL:P3D
REFRESH-INTERVAL:P3D
CALSCALE:GREGORIAN
BEGIN:VEVENT
DTSTART:20260425T123000Z
DTEND:20260425T180000Z
X-MICROSOFT-CDO-ALLDAYEVENT:FALSE
SUMMARY:Elite Care Service_KWIT Charity Golf Tournament
DESCRIPTION:Every swing has a purpose. Every sponsor becomes part of someone's comeback story.\n\nKWIT\, Inc. exists to walk families through the full journey of substance abuse treatment and recovery\, while building stronger futures through literacy programs\, free training opportunities\, and community support including assistance with safe rooms and stability when life is falling apart.\n\nThis tournament creates more than winners on the course \n\nIt creates hope\, healing\, and belonging for families who feel like they're fighting alone.\n\nBe the sponsor who helps change a life.
X-ALT-DESC;FMTTYPE=text/html:<p><strong>Every swing has a purpose. Every sponsor becomes part of someone&rsquo\;s comeback story.</strong></p>\n\n<p>KWIT\, Inc. exists to walk families through the full journey of<span style="color:inherit">&nbsp\;</span><strong>substance abuse treatment and recovery</strong>\, while building stronger futures through<span style="color:inherit">&nbsp\;</span><strong>literacy programs\, free training opportunities\, and community support</strong>&mdash\;including assistance with safe rooms and stability when life is falling apart.</p>\n\n<p>This tournament creates more than winners on the course&hellip\;<br />\nIt creates<span style="color:inherit">&nbsp\;</span><strong>hope\, healing\, and belonging</strong><span style="color:inherit">&nbsp\;</span>for families who feel like they&rsquo\;re fighting alone.</p>\n\n<p><strong>Be the sponsor who helps change a life.</strong></p>\n
LOCATION:Carolina Trace Golf Course
UID:e.1253.49750
SEQUENCE:3
DTSTAMP:20260419T180505Z
URL:http://chamber.faybiz.com/events/details/elite-care-service_kwit-charity-golf-tournament-49750
END:VEVENT

END:VCALENDAR
