BEGIN:VCALENDAR
VERSION:2.0
PRODID:-//ChamberMaster//Event Calendar 2.0//EN
METHOD:PUBLISH
X-PUBLISHED-TTL:P3D
REFRESH-INTERVAL:P3D
CALSCALE:GREGORIAN
BEGIN:VEVENT
DTSTART:20260425T220000Z
DTEND:20260426T020000Z
X-MICROSOFT-CDO-ALLDAYEVENT:FALSE
SUMMARY:Black\, White\, & Bling: Auction 2026 (Fayetteville Academy)
DESCRIPTION:Black\, White and Bling: Auction & Gala 2026 is an elegant evening of celebration\, community\, and philanthropy in support of Fayetteville Academy. The event brings together parents\, alumni\, faculty\, and friends of the school for a night designed to celebrate the FA community while raising important funds for students and programs.\n\nGuests are invited to dress in their best black and white attire with a touch of sparkle\, embracing the "bling" theme for a stylish and festive atmosphere. The evening typically features a cocktail reception\, dinner\, live entertainment\, and both silent and live auctions filled with unique items\, experiences\, and exclusive packages.\n\nThroughout the night\, attendees will have opportunities to socialize\, bid on exciting auction items\, and support Fayetteville Academy in a meaningful way. Funds raised during the event help enhance educational opportunities\, campus initiatives\, and student experiences.\n\nBlack\, White and Bling is more than a fundraiser it is one of the school's most anticipated social events of the Black\, White and Bling: Auction & Gala 2026 is Fayetteville Academy's signature fundraising event\, featuring an elegant evening of dining\, entertainment\, and exciting live and silent auctions that support student programs and campus initiatives. Guests enjoy a festive night of community\, celebration\, and giving back to FA.year\, bringing the FA community together for an unforgettable night of fun\, generosity\, and school spirit.
X-ALT-DESC;FMTTYPE=text/html:<p><strong>Black\, White and Bling: Auction &amp\; Gala 2026</strong> is an elegant evening of celebration\, community\, and philanthropy in support of Fayetteville Academy. The event brings together parents\, alumni\, faculty\, and friends of the school for a night designed to celebrate the FA community while raising important funds for students and programs.</p>\n\n<p>Guests are invited to dress in their best <strong>black and white attire with a touch of sparkle</strong>\, embracing the &ldquo\;bling&rdquo\; theme for a stylish and festive atmosphere. The evening typically features a <strong>cocktail reception\, dinner\, live entertainment\, and both silent and live auctions</strong> filled with unique items\, experiences\, and exclusive packages.</p>\n\n<p>Throughout the night\, attendees will have opportunities to socialize\, bid on exciting auction items\, and support Fayetteville Academy in a meaningful way. Funds raised during the event help enhance educational opportunities\, campus initiatives\, and student experiences.</p>\n\n<p><strong>Black\, White and Bling</strong> is more than a fundraiser&mdash\;it is one of the school&rsquo\;s most anticipated social events of the Black\, White and Bling: Auction &amp\; Gala 2026 is Fayetteville Academy&rsquo\;s signature fundraising event\, featuring an elegant evening of dining\, entertainment\, and exciting live and silent auctions that support student programs and campus initiatives. Guests enjoy a festive night of community\, celebration\, and giving back to FA.year\, bringing the FA community together for an unforgettable night of fun\, generosity\, and school spirit.</p>\n
LOCATION:Highland Country Club
UID:e.1253.50743
SEQUENCE:3
DTSTAMP:20260419T151206Z
URL:http://chamber.faybiz.com/events/details/black-white-bling-auction-2026-fayetteville-academy-50743
END:VEVENT

END:VCALENDAR
